BEGIN:VCALENDAR
VERSION:2.0
PRODID:-//Endorso//Watch Free Events//EN
CALSCALE:GREGORIAN
METHOD:PUBLISH
BEGIN:VEVENT
UID:ligue-1-psg-vs-marseille-2026-05-03@endorso.com
DTSTAMP:20260422T105126Z
DTSTART:20260503T190000Z
DTEND:20260503T210000Z
SUMMARY:PSG vs Marseille — Ligue 1 (Watch Free with VPN)
DESCRIPTION:Le Classique is the most anticipated match in French football. The fierce rivalry between the capital and the south heats up the title race.\\n\\nFree on France TV (France).\\n\\nFull guide: https://endorso.com/vpn/watch/ligue-1-psg-vs-marseille-2026-05-03
URL:https://endorso.com/vpn/watch/ligue-1-psg-vs-marseille-2026-05-03
LOCATION:https://endorso.com/vpn/watch/ligue-1-psg-vs-marseille-2026-05-03
END:VEVENT
END:VCALENDAR