BEGIN:VCALENDAR
VERSION:2.0
PRODID:-//Endorso//Watch Free Events//EN
CALSCALE:GREGORIAN
METHOD:PUBLISH
BEGIN:VEVENT
UID:ligue-1-psg-vs-marseille-2026-04-26@endorso.com
DTSTAMP:20260425T041150Z
DTSTART:20260426T190000Z
DTEND:20260426T210000Z
SUMMARY:PSG vs Marseille — Ligue 1 (Watch Free with VPN)
DESCRIPTION:Le Classique pits PSG against rivals Marseille. A high-intensity clash that often decides the momentum of the French league title race.\\n\\nFree on France TV (France).\\n\\nFull guide: https://endorso.com/vpn/watch/ligue-1-psg-vs-marseille-2026-04-26
URL:https://endorso.com/vpn/watch/ligue-1-psg-vs-marseille-2026-04-26
LOCATION:https://endorso.com/vpn/watch/ligue-1-psg-vs-marseille-2026-04-26
END:VEVENT
END:VCALENDAR