BEGIN:VCALENDAR
VERSION:2.0
PRODID:-//Endorso//Watch Free Events//EN
CALSCALE:GREGORIAN
METHOD:PUBLISH
BEGIN:VEVENT
UID:ligue-1-psg-vs-marseille-2026-04-24@endorso.com
DTSTAMP:20260421T192439Z
DTSTART:20260424T190000Z
DTEND:20260424T210000Z
SUMMARY:PSG vs Marseille — Ligue 1 (Watch Free with VPN)
DESCRIPTION:Le Classique returns as the two biggest rivals in French football clash. A pivotal match for the title race and national pride.\\n\\nFree on France TV (France).\\n\\nFull guide: https://endorso.com/vpn/watch/ligue-1-psg-vs-marseille-2026-04-24
URL:https://endorso.com/vpn/watch/ligue-1-psg-vs-marseille-2026-04-24
LOCATION:https://endorso.com/vpn/watch/ligue-1-psg-vs-marseille-2026-04-24
END:VEVENT
END:VCALENDAR