BEGIN:VCALENDAR
VERSION:2.0
PRODID:-//Endorso//Watch Free Events//EN
CALSCALE:GREGORIAN
METHOD:PUBLISH
BEGIN:VEVENT
UID:ligue-1-psg-vs-marseille-2026-04-19@endorso.com
DTSTAMP:20260419T171218Z
DTSTART:20260419T190000Z
DTEND:20260419T210000Z
SUMMARY:PSG vs Marseille — Ligue 1 (Watch Free with VPN)
DESCRIPTION:Le Classique! The biggest rivalry in French football. PSG's star-studded squad faces a tough test against Marseille's passionate team.\\n\\nFree on France TV (France).\\n\\nFull guide: https://endorso.com/vpn/watch/ligue-1-psg-vs-marseille-2026-04-19
URL:https://endorso.com/vpn/watch/ligue-1-psg-vs-marseille-2026-04-19
LOCATION:https://endorso.com/vpn/watch/ligue-1-psg-vs-marseille-2026-04-19
END:VEVENT
END:VCALENDAR