BEGIN:VCALENDAR
VERSION:2.0
PRODID:-//Endorso//Watch Free Events//EN
CALSCALE:GREGORIAN
METHOD:PUBLISH
BEGIN:VEVENT
UID:ligue-1-psg-vs-lyon-2026-05-03@endorso.com
DTSTAMP:20260419T170553Z
DTSTART:20260503T190000Z
DTEND:20260503T210000Z
SUMMARY:PSG vs Lyon — Ligue 1 (Watch Free with VPN)
DESCRIPTION:PSG faces Lyon in a Ligue 1 match. PSG aims to maintain their dominance\, while Lyon looks to challenge the league leaders.\\n\\nFree on France TV (France).\\n\\nFull guide: https://endorso.com/vpn/watch/ligue-1-psg-vs-lyon-2026-05-03
URL:https://endorso.com/vpn/watch/ligue-1-psg-vs-lyon-2026-05-03
LOCATION:https://endorso.com/vpn/watch/ligue-1-psg-vs-lyon-2026-05-03
END:VEVENT
END:VCALENDAR