BEGIN:VCALENDAR
VERSION:2.0
PRODID:-//Endorso//Watch Free Events//EN
CALSCALE:GREGORIAN
METHOD:PUBLISH
BEGIN:VEVENT
UID:ligue-1-psg-vs-lyon-2026-04-26@endorso.com
DTSTAMP:20260422T044846Z
DTSTART:20260426T190000Z
DTEND:20260426T210000Z
SUMMARY:PSG vs Lyon — Ligue 1 (Watch Free with VPN)
DESCRIPTION:The biggest match in French football as PSG hosts Lyon. Expect star power and a fierce atmosphere at the Parc des Princes.\\n\\nFree on France TV (France).\\n\\nFull guide: https://endorso.com/vpn/watch/ligue-1-psg-vs-lyon-2026-04-26
URL:https://endorso.com/vpn/watch/ligue-1-psg-vs-lyon-2026-04-26
LOCATION:https://endorso.com/vpn/watch/ligue-1-psg-vs-lyon-2026-04-26
END:VEVENT
END:VCALENDAR