BEGIN:VCALENDAR
VERSION:2.0
PRODID:-//Endorso//Watch Free Events//EN
CALSCALE:GREGORIAN
METHOD:PUBLISH
BEGIN:VEVENT
UID:ligue-1-olympique-marseille-vs-psg-2026-04-26@endorso.com
DTSTAMP:20260419T140549Z
DTSTART:20260426T190000Z
DTEND:20260426T210000Z
SUMMARY:Olympique Marseille vs PSG — Ligue 1 (Watch Free with VPN)
DESCRIPTION:Le Classique! Olympique Marseille hosts PSG in a highly anticipated Ligue 1 match. This rivalry game is always a spectacle\, with both teams showcasing their attacking prowess.\\n\\nFree on France TV (France).\\n\\nFull guide: https://endorso.com/vpn/watch/ligue-1-olympique-marseille-vs-psg-2026-04-26
URL:https://endorso.com/vpn/watch/ligue-1-olympique-marseille-vs-psg-2026-04-26
LOCATION:https://endorso.com/vpn/watch/ligue-1-olympique-marseille-vs-psg-2026-04-26
END:VEVENT
END:VCALENDAR