BEGIN:VCALENDAR
VERSION:2.0
PRODID:-//Endorso//Watch Free Events//EN
CALSCALE:GREGORIAN
METHOD:PUBLISH
BEGIN:VEVENT
UID:ligue-1-matchday-33-2026-05-02-2026-05-04@endorso.com
DTSTAMP:20260420T111736Z
DTSTART:20260502T150000Z
DTEND:20260502T170000Z
SUMMARY:Ligue 1 - Matchday 33 (Watch Free with VPN)
DESCRIPTION:Thrilling Ligue 1 encounters as teams push for European qualification and avoid relegation. Expect drama and excitement across the weekend.\\n\\nFree on France TV (France).\\n\\nFull guide: https://endorso.com/vpn/watch/ligue-1-matchday-33-2026-05-02-2026-05-04
URL:https://endorso.com/vpn/watch/ligue-1-matchday-33-2026-05-02-2026-05-04
LOCATION:https://endorso.com/vpn/watch/ligue-1-matchday-33-2026-05-02-2026-05-04
END:VEVENT
END:VCALENDAR