BEGIN:VCALENDAR
VERSION:2.0
PRODID:-//Endorso//Watch Free Events//EN
CALSCALE:GREGORIAN
METHOD:PUBLISH
BEGIN:VEVENT
UID:ligue-1-marseille-vs-lyon-2026-05-02@endorso.com
DTSTAMP:20260419T195443Z
DTSTART:20260502T190000Z
DTEND:20260502T210000Z
SUMMARY:Marseille vs Lyon — Ligue 1 (Watch Free with VPN)
DESCRIPTION:Marseille hosts Lyon in a highly anticipated Ligue 1 match. Expect a fierce battle as both teams aim for a strong finish to the season.\\n\\nFree on France TV (France).\\n\\nFull guide: https://endorso.com/vpn/watch/ligue-1-marseille-vs-lyon-2026-05-02
URL:https://endorso.com/vpn/watch/ligue-1-marseille-vs-lyon-2026-05-02
LOCATION:https://endorso.com/vpn/watch/ligue-1-marseille-vs-lyon-2026-05-02
END:VEVENT
END:VCALENDAR