BEGIN:VCALENDAR
VERSION:2.0
PRODID:-//Endorso//Watch Free Events//EN
CALSCALE:GREGORIAN
METHOD:PUBLISH
BEGIN:VEVENT
UID:ligue-1-lyon-vs-monaco-2026-04-26@endorso.com
DTSTAMP:20260419T170520Z
DTSTART:20260426T150000Z
DTEND:20260426T170000Z
SUMMARY:Lyon vs Monaco — Ligue 1 (Watch Free with VPN)
DESCRIPTION:A key Ligue 1 fixture as Lyon takes on Monaco. Both teams are aiming for a strong finish to the season and a potential European spot.\\n\\nFree on France TV (France).\\n\\nFull guide: https://endorso.com/vpn/watch/ligue-1-lyon-vs-monaco-2026-04-26
URL:https://endorso.com/vpn/watch/ligue-1-lyon-vs-monaco-2026-04-26
LOCATION:https://endorso.com/vpn/watch/ligue-1-lyon-vs-monaco-2026-04-26
END:VEVENT
END:VCALENDAR