BEGIN:VCALENDAR
VERSION:2.0
PRODID:-//Endorso//Watch Free Events//EN
CALSCALE:GREGORIAN
METHOD:PUBLISH
BEGIN:VEVENT
UID:liga-mx-round-17-cruz-azul-vs-pumas-2026-05-03@endorso.com
DTSTAMP:20260419T200302Z
DTSTART:20260503T010000Z
DTEND:20260503T030000Z
SUMMARY:Cruz Azul vs Pumas — Liga MX Round 17 (Watch Free with VPN)
DESCRIPTION:Liga MX Round 17 match between Cruz Azul and Pumas. A Mexico City derby\, with both teams vying for a crucial win to secure a playoff spot.\\n\\nFree on Canal 5 (Mexico).\\n\\nFull guide: https://endorso.com/vpn/watch/liga-mx-round-17-cruz-azul-vs-pumas-2026-05-03
URL:https://endorso.com/vpn/watch/liga-mx-round-17-cruz-azul-vs-pumas-2026-05-03
LOCATION:https://endorso.com/vpn/watch/liga-mx-round-17-cruz-azul-vs-pumas-2026-05-03
END:VEVENT
END:VCALENDAR