BEGIN:VCALENDAR
VERSION:2.0
PRODID:-//Endorso//Watch Free Events//EN
CALSCALE:GREGORIAN
METHOD:PUBLISH
BEGIN:VEVENT
UID:liga-mx-round-16-chivas-vs-cruz-azul-2026-05-02@endorso.com
DTSTAMP:20260420T112159Z
DTSTART:20260502T010000Z
DTEND:20260502T030000Z
SUMMARY:Chivas vs Cruz Azul — Liga MX Round 16 (Watch Free with VPN)
DESCRIPTION:Chivas hosts Cruz Azul in a crucial Liga MX match. Both teams are vying for a playoff spot\, adding extra intensity to this encounter.\\n\\nFree on Canal 5 (Mexico).\\n\\nFull guide: https://endorso.com/vpn/watch/liga-mx-round-16-chivas-vs-cruz-azul-2026-05-02
URL:https://endorso.com/vpn/watch/liga-mx-round-16-chivas-vs-cruz-azul-2026-05-02
LOCATION:https://endorso.com/vpn/watch/liga-mx-round-16-chivas-vs-cruz-azul-2026-05-02
END:VEVENT
END:VCALENDAR