BEGIN:VCALENDAR
VERSION:2.0
PRODID:-//Endorso//Watch Free Events//EN
CALSCALE:GREGORIAN
METHOD:PUBLISH
BEGIN:VEVENT
UID:liga-mx-round-16-america-vs-chivas-2026-04-26@endorso.com
DTSTAMP:20260419T140702Z
DTSTART:20260426T010000Z
DTEND:20260426T030000Z
SUMMARY:América vs Chivas — Liga MX Round 16 (Watch Free with VPN)
DESCRIPTION:Liga MX round 16 match between América and Chivas\, a classic rivalry known as 'El Súper Clásico'. This match is always highly anticipated and full of passion. Expect a fierce battle on the field.\\n\\nFree on Canal 5 (Mexico).\\n\\nFull guide: https://endorso.com/vpn/watch/liga-mx-round-16-america-vs-chivas-2026-04-26
URL:https://endorso.com/vpn/watch/liga-mx-round-16-america-vs-chivas-2026-04-26
LOCATION:https://endorso.com/vpn/watch/liga-mx-round-16-america-vs-chivas-2026-04-26
END:VEVENT
END:VCALENDAR