BEGIN:VCALENDAR
VERSION:2.0
PRODID:-//Endorso//Watch Free Events//EN
CALSCALE:GREGORIAN
METHOD:PUBLISH
BEGIN:VEVENT
UID:liga-mx-round-15-america-vs-chivas-2026-04-25@endorso.com
DTSTAMP:20260420T111904Z
DTSTART:20260425T010000Z
DTEND:20260425T030000Z
SUMMARY:América vs Chivas — Liga MX Round 15 (Watch Free with VPN)
DESCRIPTION:El Súper Clásico: América and Chivas face off in the biggest rivalry in Mexican football. This match is always a high-stakes affair with intense passion.\\n\\nFree on Canal 5 (Mexico).\\n\\nFull guide: https://endorso.com/vpn/watch/liga-mx-round-15-america-vs-chivas-2026-04-25
URL:https://endorso.com/vpn/watch/liga-mx-round-15-america-vs-chivas-2026-04-25
LOCATION:https://endorso.com/vpn/watch/liga-mx-round-15-america-vs-chivas-2026-04-25
END:VEVENT
END:VCALENDAR