BEGIN:VCALENDAR
VERSION:2.0
PRODID:-//Endorso//Watch Free Events//EN
CALSCALE:GREGORIAN
METHOD:PUBLISH
BEGIN:VEVENT
UID:liga-mx-club-america-vs-chivas-guadalajara-2026-05-02@endorso.com
DTSTAMP:20260425T041122Z
DTSTART:20260503T020000Z
DTEND:20260503T040000Z
SUMMARY:Club América vs Chivas Guadalajara — Liga MX Clausura (Watch Free with VPN)
DESCRIPTION:El Súper Clásico of Mexican football. The regular season concludes with the biggest rivalry in North America as teams fight for Liguilla seeding.\\n\\nFree on Azteca Deportes (Mexico).\\n\\nFull guide: https://endorso.com/vpn/watch/liga-mx-club-america-vs-chivas-guadalajara-2026-05-02
URL:https://endorso.com/vpn/watch/liga-mx-club-america-vs-chivas-guadalajara-2026-05-02
LOCATION:https://endorso.com/vpn/watch/liga-mx-club-america-vs-chivas-guadalajara-2026-05-02
END:VEVENT
END:VCALENDAR