BEGIN:VCALENDAR
VERSION:2.0
PRODID:-//Endorso//Watch Free Events//EN
CALSCALE:GREGORIAN
METHOD:PUBLISH
BEGIN:VEVENT
UID:liga-mx-club-america-vs-chivas-guadalajara-2026-04-26@endorso.com
DTSTAMP:20260424T191851Z
DTSTART:20260426T020000Z
DTEND:20260426T040000Z
SUMMARY:Club América vs Chivas Guadalajara — Liga MX Clausura (Watch Free with VPN)
DESCRIPTION:The 'Clásico Nacional' of Mexican football. The biggest rivalry in North America takes place at the Estadio Azteca as the regular season nears its end.\\n\\nFree on Azteca Deportes (Mexico).\\n\\nFull guide: https://endorso.com/vpn/watch/liga-mx-club-america-vs-chivas-guadalajara-2026-04-26
URL:https://endorso.com/vpn/watch/liga-mx-club-america-vs-chivas-guadalajara-2026-04-26
LOCATION:https://endorso.com/vpn/watch/liga-mx-club-america-vs-chivas-guadalajara-2026-04-26
END:VEVENT
END:VCALENDAR