BEGIN:VCALENDAR
VERSION:2.0
PRODID:-//Endorso//Watch Free Events//EN
CALSCALE:GREGORIAN
METHOD:PUBLISH
BEGIN:VEVENT
UID:liga-mx-club-america-vs-chivas-2026-04-28@endorso.com
DTSTAMP:20260425T024850Z
DTSTART:20260428T020000Z
DTEND:20260428T040000Z
SUMMARY:Club América vs Chivas Guadalajara — Liga MX (Watch Free with VPN)
DESCRIPTION:El Súper Clásico of Mexican football. The two most successful clubs in Mexico face off in a match that stops the nation.\\n\\nFree on Azteca Deportes (Mexico).\\n\\nFull guide: https://endorso.com/vpn/watch/liga-mx-club-america-vs-chivas-2026-04-28
URL:https://endorso.com/vpn/watch/liga-mx-club-america-vs-chivas-2026-04-28
LOCATION:https://endorso.com/vpn/watch/liga-mx-club-america-vs-chivas-2026-04-28
END:VEVENT
END:VCALENDAR