BEGIN:VCALENDAR
VERSION:2.0
PRODID:-//Endorso//Watch Free Events//EN
CALSCALE:GREGORIAN
METHOD:PUBLISH
BEGIN:VEVENT
UID:liga-mx-clausura-club-america-vs-chivas-2026-05-02@endorso.com
DTSTAMP:20260424T181706Z
DTSTART:20260502T030000Z
DTEND:20260502T050000Z
SUMMARY:Club América vs Chivas Guadalajara — Liga MX (Watch Free with VPN)
DESCRIPTION:El Súper Clásico of Mexican football. The biggest rivalry in North America takes center stage as the Clausura regular season concludes.\\n\\nFree on Azteca Deportes (Mexico).\\n\\nFull guide: https://endorso.com/vpn/watch/liga-mx-clausura-club-america-vs-chivas-2026-05-02
URL:https://endorso.com/vpn/watch/liga-mx-clausura-club-america-vs-chivas-2026-05-02
LOCATION:https://endorso.com/vpn/watch/liga-mx-clausura-club-america-vs-chivas-2026-05-02
END:VEVENT
END:VCALENDAR