BEGIN:VCALENDAR
VERSION:2.0
PRODID:-//Endorso//Watch Free Events//EN
CALSCALE:GREGORIAN
METHOD:PUBLISH
BEGIN:VEVENT
UID:la-liga-villarreal-vs-real-madrid-2026-05-09@endorso.com
DTSTAMP:20260425T143053Z
DTSTART:20260509T190000Z
DTEND:20260509T210000Z
SUMMARY:Villarreal vs Real Madrid — La Liga (Watch Free with VPN)
DESCRIPTION:The Yellow Submarine hosts the Kings of Europe. Villarreal's home ground is a notoriously difficult place for Real Madrid to secure all three points.\\n\\nFree on JioCinema (India).\\n\\nFull guide: https://endorso.com/vpn/watch/la-liga-villarreal-vs-real-madrid-2026-05-09
URL:https://endorso.com/vpn/watch/la-liga-villarreal-vs-real-madrid-2026-05-09
LOCATION:https://endorso.com/vpn/watch/la-liga-villarreal-vs-real-madrid-2026-05-09
END:VEVENT
END:VCALENDAR