BEGIN:VCALENDAR
VERSION:2.0
PRODID:-//Endorso//Watch Free Events//EN
CALSCALE:GREGORIAN
METHOD:PUBLISH
BEGIN:VEVENT
UID:la-liga-villarreal-vs-real-madrid-2026-05-08@endorso.com
DTSTAMP:20260425T024809Z
DTSTART:20260508T190000Z
DTEND:20260508T210000Z
SUMMARY:Villarreal vs Real Madrid — La Liga (Watch Free with VPN)
DESCRIPTION:Real Madrid travels to the Estadio de la Cerámica for a difficult Friday night fixture against the Yellow Submarine.\\n\\nFree on JioCinema (India).\\n\\nFull guide: https://endorso.com/vpn/watch/la-liga-villarreal-vs-real-madrid-2026-05-08
URL:https://endorso.com/vpn/watch/la-liga-villarreal-vs-real-madrid-2026-05-08
LOCATION:https://endorso.com/vpn/watch/la-liga-villarreal-vs-real-madrid-2026-05-08
END:VEVENT
END:VCALENDAR