BEGIN:VCALENDAR
VERSION:2.0
PRODID:-//Endorso//Watch Free Events//EN
CALSCALE:GREGORIAN
METHOD:PUBLISH
BEGIN:VEVENT
UID:la-liga-villarreal-vs-real-madrid-2026-05-06@endorso.com
DTSTAMP:20260422T104806Z
DTSTART:20260506T200000Z
DTEND:20260506T220000Z
SUMMARY:Villarreal vs Real Madrid — La Liga (Watch Free with VPN)
DESCRIPTION:A midweek trip to the Ceramica for Real Madrid. Villarreal is always a difficult opponent at home\, making this a potential banana skin for the title favorites.\\n\\nFree on JioCinema (India).\\n\\nFull guide: https://endorso.com/vpn/watch/la-liga-villarreal-vs-real-madrid-2026-05-06
URL:https://endorso.com/vpn/watch/la-liga-villarreal-vs-real-madrid-2026-05-06
LOCATION:https://endorso.com/vpn/watch/la-liga-villarreal-vs-real-madrid-2026-05-06
END:VEVENT
END:VCALENDAR