BEGIN:VCALENDAR
VERSION:2.0
PRODID:-//Endorso//Watch Free Events//EN
CALSCALE:GREGORIAN
METHOD:PUBLISH
BEGIN:VEVENT
UID:la-liga-valencia-vs-villarreal-2026-05-02@endorso.com
DTSTAMP:20260422T045355Z
DTSTART:20260502T141500Z
DTEND:20260502T161500Z
SUMMARY:Valencia vs Villarreal — La Liga (Watch Free with VPN)
DESCRIPTION:A regional derby in the Valencian Community. Both teams are vying for European spots in the final stretch of the season.\\n\\nFree on JioCinema (India).\\n\\nFull guide: https://endorso.com/vpn/watch/la-liga-valencia-vs-villarreal-2026-05-02
URL:https://endorso.com/vpn/watch/la-liga-valencia-vs-villarreal-2026-05-02
LOCATION:https://endorso.com/vpn/watch/la-liga-valencia-vs-villarreal-2026-05-02
END:VEVENT
END:VCALENDAR