BEGIN:VCALENDAR
VERSION:2.0
PRODID:-//Endorso//Watch Free Events//EN
CALSCALE:GREGORIAN
METHOD:PUBLISH
BEGIN:VEVENT
UID:la-liga-sevilla-vs-real-madrid-2026-05-09@endorso.com
DTSTAMP:20260425T040653Z
DTSTART:20260509T200000Z
DTEND:20260509T220000Z
SUMMARY:Sevilla vs Real Madrid — La Liga (Watch Free with VPN)
DESCRIPTION:Real Madrid travels to the Ramon Sanchez-Pizjuan for one of the most hostile away fixtures in Spain. Sevilla looks to play spoiler in the title race.\\n\\nFree on JioCinema (India).\\n\\nFull guide: https://endorso.com/vpn/watch/la-liga-sevilla-vs-real-madrid-2026-05-09
URL:https://endorso.com/vpn/watch/la-liga-sevilla-vs-real-madrid-2026-05-09
LOCATION:https://endorso.com/vpn/watch/la-liga-sevilla-vs-real-madrid-2026-05-09
END:VEVENT
END:VCALENDAR