BEGIN:VCALENDAR
VERSION:2.0
PRODID:-//Endorso//Watch Free Events//EN
CALSCALE:GREGORIAN
METHOD:PUBLISH
BEGIN:VEVENT
UID:la-liga-sevilla-vs-real-betis-2026-05-03@endorso.com
DTSTAMP:20260422T163728Z
DTSTART:20260503T200000Z
DTEND:20260503T220000Z
SUMMARY:Sevilla vs Real Betis — La Liga (Watch Free with VPN)
DESCRIPTION:The Great Seville Derby (El Gran Derbi) is one of the most passionate fixtures in world football. Expect a heated atmosphere at the Ramón Sánchez Pizjuán.\\n\\nFree on ITVX (United Kingdom).\\n\\nFull guide: https://endorso.com/vpn/watch/la-liga-sevilla-vs-real-betis-2026-05-03
URL:https://endorso.com/vpn/watch/la-liga-sevilla-vs-real-betis-2026-05-03
LOCATION:https://endorso.com/vpn/watch/la-liga-sevilla-vs-real-betis-2026-05-03
END:VEVENT
END:VCALENDAR