BEGIN:VCALENDAR
VERSION:2.0
PRODID:-//Endorso//Watch Free Events//EN
CALSCALE:GREGORIAN
METHOD:PUBLISH
BEGIN:VEVENT
UID:la-liga-real-sociedad-vs-villarreal-2026-05-03@endorso.com
DTSTAMP:20260419T171914Z
DTSTART:20260503T140000Z
DTEND:20260503T160000Z
SUMMARY:Real Sociedad vs Villarreal — La Liga (Watch Free with VPN)
DESCRIPTION:A La Liga match where both teams are looking to secure a European qualification spot. A crucial game for both sides.\\n\\nFree on RTVE (Spain).\\n\\nFull guide: https://endorso.com/vpn/watch/la-liga-real-sociedad-vs-villarreal-2026-05-03
URL:https://endorso.com/vpn/watch/la-liga-real-sociedad-vs-villarreal-2026-05-03
LOCATION:https://endorso.com/vpn/watch/la-liga-real-sociedad-vs-villarreal-2026-05-03
END:VEVENT
END:VCALENDAR