BEGIN:VCALENDAR
VERSION:2.0
PRODID:-//Endorso//Watch Free Events//EN
CALSCALE:GREGORIAN
METHOD:PUBLISH
BEGIN:VEVENT
UID:la-liga-real-sociedad-vs-barcelona-2026-05-09@endorso.com
DTSTAMP:20260425T104626Z
DTSTART:20260509T200000Z
DTEND:20260509T220000Z
SUMMARY:Real Sociedad vs Barcelona — La Liga (Watch Free with VPN)
DESCRIPTION:Barcelona faces a difficult trip to San Sebastian. Real Sociedad is known for upsetting the giants at home\, making this a must-watch for title race followers.\\n\\nFree on JioCinema (India).\\n\\nFull guide: https://endorso.com/vpn/watch/la-liga-real-sociedad-vs-barcelona-2026-05-09
URL:https://endorso.com/vpn/watch/la-liga-real-sociedad-vs-barcelona-2026-05-09
LOCATION:https://endorso.com/vpn/watch/la-liga-real-sociedad-vs-barcelona-2026-05-09
END:VEVENT
END:VCALENDAR