BEGIN:VCALENDAR
VERSION:2.0
PRODID:-//Endorso//Watch Free Events//EN
CALSCALE:GREGORIAN
METHOD:PUBLISH
BEGIN:VEVENT
UID:la-liga-real-sociedad-vs-athletic-club-2026-05-03@endorso.com
DTSTAMP:20260422T045747Z
DTSTART:20260503T190000Z
DTEND:20260503T210000Z
SUMMARY:Real Sociedad vs Athletic Club — La Liga (Watch Free with VPN)
DESCRIPTION:The Basque Derby is one of the most intense and culturally significant matches in Spain. Expect a high-tempo game at the Reale Arena.\\n\\nFree on RTVE Play (Spain).\\n\\nFull guide: https://endorso.com/vpn/watch/la-liga-real-sociedad-vs-athletic-club-2026-05-03
URL:https://endorso.com/vpn/watch/la-liga-real-sociedad-vs-athletic-club-2026-05-03
LOCATION:https://endorso.com/vpn/watch/la-liga-real-sociedad-vs-athletic-club-2026-05-03
END:VEVENT
END:VCALENDAR