BEGIN:VCALENDAR
VERSION:2.0
PRODID:-//Endorso//Watch Free Events//EN
CALSCALE:GREGORIAN
METHOD:PUBLISH
BEGIN:VEVENT
UID:la-liga-real-madrid-vs-valencia-2026-04-25@endorso.com
DTSTAMP:20260422T105609Z
DTSTART:20260425T190000Z
DTEND:20260425T210000Z
SUMMARY:Real Madrid vs Valencia — La Liga (Watch Free with VPN)
DESCRIPTION:Real Madrid looks to solidify their position at the top of the table against a resilient Valencia side. A classic Spanish fixture with high intensity and technical quality.\\n\\nFree on RTVE Play (Spain).\\n\\nFull guide: https://endorso.com/vpn/watch/la-liga-real-madrid-vs-valencia-2026-04-25
URL:https://endorso.com/vpn/watch/la-liga-real-madrid-vs-valencia-2026-04-25
LOCATION:https://endorso.com/vpn/watch/la-liga-real-madrid-vs-valencia-2026-04-25
END:VEVENT
END:VCALENDAR