BEGIN:VCALENDAR
VERSION:2.0
PRODID:-//Endorso//Watch Free Events//EN
CALSCALE:GREGORIAN
METHOD:PUBLISH
BEGIN:VEVENT
UID:la-liga-real-madrid-vs-real-sociedad-2026-04-25@endorso.com
DTSTAMP:20260424T191204Z
DTSTART:20260425T190000Z
DTEND:20260425T210000Z
SUMMARY:Real Madrid vs Real Sociedad — La Liga (Watch Free with VPN)
DESCRIPTION:Real Madrid looks to secure the title race lead against a disciplined Real Sociedad side at the Santiago Bernabéu.\\n\\nFree on JioCinema (India).\\n\\nFull guide: https://endorso.com/vpn/watch/la-liga-real-madrid-vs-real-sociedad-2026-04-25
URL:https://endorso.com/vpn/watch/la-liga-real-madrid-vs-real-sociedad-2026-04-25
LOCATION:https://endorso.com/vpn/watch/la-liga-real-madrid-vs-real-sociedad-2026-04-25
END:VEVENT
END:VCALENDAR