BEGIN:VCALENDAR
VERSION:2.0
PRODID:-//Endorso//Watch Free Events//EN
CALSCALE:GREGORIAN
METHOD:PUBLISH
BEGIN:VEVENT
UID:la-liga-real-madrid-vs-espanyol-2026-04-25@endorso.com
DTSTAMP:20260422T164014Z
DTSTART:20260425T190000Z
DTEND:20260425T210000Z
SUMMARY:Real Madrid vs Espanyol — La Liga (Watch Free with VPN)
DESCRIPTION:Real Madrid looks to secure three points at the Santiago Bernabéu to maintain their lead at the top of the table. Espanyol fights for a mid-table finish in this late-season encounter.\\n\\nFree on RTVE Play (Spain).\\n\\nFull guide: https://endorso.com/vpn/watch/la-liga-real-madrid-vs-espanyol-2026-04-25
URL:https://endorso.com/vpn/watch/la-liga-real-madrid-vs-espanyol-2026-04-25
LOCATION:https://endorso.com/vpn/watch/la-liga-real-madrid-vs-espanyol-2026-04-25
END:VEVENT
END:VCALENDAR