BEGIN:VCALENDAR
VERSION:2.0
PRODID:-//Endorso//Watch Free Events//EN
CALSCALE:GREGORIAN
METHOD:PUBLISH
BEGIN:VEVENT
UID:la-liga-rayo-vallecano-vs-athletic-bilbao-2026-04-27@endorso.com
DTSTAMP:20260419T171904Z
DTSTART:20260427T150000Z
DTEND:20260427T170000Z
SUMMARY:Rayo Vallecano vs Athletic Bilbao — La Liga (Watch Free with VPN)
DESCRIPTION:A mid-table La Liga clash. Both teams will be looking to finish the season strongly.\\n\\nFree on RTVE (Spain).\\n\\nFull guide: https://endorso.com/vpn/watch/la-liga-rayo-vallecano-vs-athletic-bilbao-2026-04-27
URL:https://endorso.com/vpn/watch/la-liga-rayo-vallecano-vs-athletic-bilbao-2026-04-27
LOCATION:https://endorso.com/vpn/watch/la-liga-rayo-vallecano-vs-athletic-bilbao-2026-04-27
END:VEVENT
END:VCALENDAR