BEGIN:VCALENDAR
VERSION:2.0
PRODID:-//Endorso//Watch Free Events//EN
CALSCALE:GREGORIAN
METHOD:PUBLISH
BEGIN:VEVENT
UID:la-liga-osasuna-vs-cadiz-2026-04-19@endorso.com
DTSTAMP:20260419T171533Z
DTSTART:20260419T161500Z
DTEND:20260419T181500Z
SUMMARY:Osasuna vs Cadiz — La Liga (Watch Free with VPN)
DESCRIPTION:A La Liga match where both teams are looking to secure points to avoid relegation. A tense and important game for both sides.\\n\\nFree on RTVE (Spain).\\n\\nFull guide: https://endorso.com/vpn/watch/la-liga-osasuna-vs-cadiz-2026-04-19
URL:https://endorso.com/vpn/watch/la-liga-osasuna-vs-cadiz-2026-04-19
LOCATION:https://endorso.com/vpn/watch/la-liga-osasuna-vs-cadiz-2026-04-19
END:VEVENT
END:VCALENDAR