BEGIN:VCALENDAR
VERSION:2.0
PRODID:-//Endorso//Watch Free Events//EN
CALSCALE:GREGORIAN
METHOD:PUBLISH
BEGIN:VEVENT
UID:la-liga-getafe-vs-celta-vigo-2026-04-20@endorso.com
DTSTAMP:20260419T171456Z
DTSTART:20260420T150000Z
DTEND:20260420T170000Z
SUMMARY:Getafe vs Celta Vigo — La Liga (Watch Free with VPN)
DESCRIPTION:A La Liga match where both teams are looking to secure points to avoid relegation. A tense and important game for both sides.\\n\\nFree on RTVE (Spain).\\n\\nFull guide: https://endorso.com/vpn/watch/la-liga-getafe-vs-celta-vigo-2026-04-20
URL:https://endorso.com/vpn/watch/la-liga-getafe-vs-celta-vigo-2026-04-20
LOCATION:https://endorso.com/vpn/watch/la-liga-getafe-vs-celta-vigo-2026-04-20
END:VEVENT
END:VCALENDAR