BEGIN:VCALENDAR
VERSION:2.0
PRODID:-//Endorso//Watch Free Events//EN
CALSCALE:GREGORIAN
METHOD:PUBLISH
BEGIN:VEVENT
UID:la-liga-barcelona-vs-villarreal-2026-04-26@endorso.com
DTSTAMP:20260424T191404Z
DTSTART:20260426T190000Z
DTEND:20260426T210000Z
SUMMARY:Barcelona vs Villarreal — La Liga (Watch Free with VPN)
DESCRIPTION:Barcelona hosts the Yellow Submarine at the Camp Nou in a match critical for European qualification standings.\\n\\nFree on JioCinema (India).\\n\\nFull guide: https://endorso.com/vpn/watch/la-liga-barcelona-vs-villarreal-2026-04-26
URL:https://endorso.com/vpn/watch/la-liga-barcelona-vs-villarreal-2026-04-26
LOCATION:https://endorso.com/vpn/watch/la-liga-barcelona-vs-villarreal-2026-04-26
END:VEVENT
END:VCALENDAR