BEGIN:VCALENDAR
VERSION:2.0
PRODID:-//Endorso//Watch Free Events//EN
CALSCALE:GREGORIAN
METHOD:PUBLISH
BEGIN:VEVENT
UID:la-liga-barcelona-vs-real-sociedad-2026-04-26@endorso.com
DTSTAMP:20260422T105436Z
DTSTART:20260426T190000Z
DTEND:20260426T210000Z
SUMMARY:Barcelona vs Real Sociedad — La Liga (Watch Free with VPN)
DESCRIPTION:Barcelona hosts the Basque giants in a match crucial for Champions League qualification spots. Expect a tactical battle between two of Spain's most organized sides.\\n\\nFree on ITVX (UK).\\n\\nFull guide: https://endorso.com/vpn/watch/la-liga-barcelona-vs-real-sociedad-2026-04-26
URL:https://endorso.com/vpn/watch/la-liga-barcelona-vs-real-sociedad-2026-04-26
LOCATION:https://endorso.com/vpn/watch/la-liga-barcelona-vs-real-sociedad-2026-04-26
END:VEVENT
END:VCALENDAR