BEGIN:VCALENDAR
VERSION:2.0
PRODID:-//Endorso//Watch Free Events//EN
CALSCALE:GREGORIAN
METHOD:PUBLISH
BEGIN:VEVENT
UID:la-liga-barcelona-vs-real-betis-2026-04-26@endorso.com
DTSTAMP:20260425T041210Z
DTSTART:20260426T190000Z
DTEND:20260426T210000Z
SUMMARY:Barcelona vs Real Betis — La Liga (Watch Free with VPN)
DESCRIPTION:Barcelona hosts the high-flying Real Betis in a match critical for European qualification spots. A showcase of technical Spanish football.\\n\\nFree on JioCinema (India).\\n\\nFull guide: https://endorso.com/vpn/watch/la-liga-barcelona-vs-real-betis-2026-04-26
URL:https://endorso.com/vpn/watch/la-liga-barcelona-vs-real-betis-2026-04-26
LOCATION:https://endorso.com/vpn/watch/la-liga-barcelona-vs-real-betis-2026-04-26
END:VEVENT
END:VCALENDAR