BEGIN:VCALENDAR
VERSION:2.0
PRODID:-//Endorso//Watch Free Events//EN
CALSCALE:GREGORIAN
METHOD:PUBLISH
BEGIN:VEVENT
UID:la-liga-atletico-madrid-vs-villarreal-2026-05-03@endorso.com
DTSTAMP:20260422T164728Z
DTSTART:20260503T183000Z
DTEND:20260503T203000Z
SUMMARY:Atletico Madrid vs Villarreal — La Liga (Watch Free with VPN)
DESCRIPTION:Diego Simeone's side faces the Yellow Submarine in a clash of tactical discipline. Atletico needs the win to secure their top-four status.\\n\\nFree on RTVE Play (Spain).\\n\\nFull guide: https://endorso.com/vpn/watch/la-liga-atletico-madrid-vs-villarreal-2026-05-03
URL:https://endorso.com/vpn/watch/la-liga-atletico-madrid-vs-villarreal-2026-05-03
LOCATION:https://endorso.com/vpn/watch/la-liga-atletico-madrid-vs-villarreal-2026-05-03
END:VEVENT
END:VCALENDAR