BEGIN:VCALENDAR
VERSION:2.0
PRODID:-//Endorso//Watch Free Events//EN
CALSCALE:GREGORIAN
METHOD:PUBLISH
BEGIN:VEVENT
UID:la-liga-atletico-madrid-vs-sevilla-2026-05-03@endorso.com
DTSTAMP:20260422T111231Z
DTSTART:20260503T183000Z
DTEND:20260503T203000Z
SUMMARY:Atletico Madrid vs Sevilla — La Liga (Watch Free with VPN)
DESCRIPTION:Simeone's men face a tough test against Sevilla at the Metropolitano. Both teams are known for their defensive solidity and counter-attacking prowess.\\n\\nFree on RTVE Play (Spain).\\n\\nFull guide: https://endorso.com/vpn/watch/la-liga-atletico-madrid-vs-sevilla-2026-05-03
URL:https://endorso.com/vpn/watch/la-liga-atletico-madrid-vs-sevilla-2026-05-03
LOCATION:https://endorso.com/vpn/watch/la-liga-atletico-madrid-vs-sevilla-2026-05-03
END:VEVENT
END:VCALENDAR