BEGIN:VCALENDAR
VERSION:2.0
PRODID:-//Endorso//Watch Free Events//EN
CALSCALE:GREGORIAN
METHOD:PUBLISH
BEGIN:VEVENT
UID:la-liga-atletico-madrid-vs-real-sociedad-2026-05-03@endorso.com
DTSTAMP:20260425T040953Z
DTSTART:20260503T183000Z
DTEND:20260503T203000Z
SUMMARY:Atletico Madrid vs Real Sociedad — La Liga (Watch Free with VPN)
DESCRIPTION:Simeone's side faces a tough test against the tactical Real Sociedad. A clash of styles between defensive solidity and creative midfield play.\\n\\nFree on JioCinema (India).\\n\\nFull guide: https://endorso.com/vpn/watch/la-liga-atletico-madrid-vs-real-sociedad-2026-05-03
URL:https://endorso.com/vpn/watch/la-liga-atletico-madrid-vs-real-sociedad-2026-05-03
LOCATION:https://endorso.com/vpn/watch/la-liga-atletico-madrid-vs-real-sociedad-2026-05-03
END:VEVENT
END:VCALENDAR