BEGIN:VCALENDAR
VERSION:2.0
PRODID:-//Endorso//Watch Free Events//EN
CALSCALE:GREGORIAN
METHOD:PUBLISH
BEGIN:VEVENT
UID:la-liga-almeria-vs-elche-2026-04-26@endorso.com
DTSTAMP:20260419T171424Z
DTSTART:20260426T140000Z
DTEND:20260426T160000Z
SUMMARY:Almeria vs Elche — La Liga (Watch Free with VPN)
DESCRIPTION:A La Liga match where both teams are looking to secure points to avoid relegation. A tense and important game for both sides.\\n\\nFree on RTVE (Spain).\\n\\nFull guide: https://endorso.com/vpn/watch/la-liga-almeria-vs-elche-2026-04-26
URL:https://endorso.com/vpn/watch/la-liga-almeria-vs-elche-2026-04-26
LOCATION:https://endorso.com/vpn/watch/la-liga-almeria-vs-elche-2026-04-26
END:VEVENT
END:VCALENDAR