BEGIN:VCALENDAR
VERSION:2.0
PRODID:-//Endorso//Watch Free Events//EN
CALSCALE:GREGORIAN
METHOD:PUBLISH
BEGIN:VEVENT
UID:ipl-2026-sunrisers-hyderabad-vs-punjab-kings-2026-05-06@endorso.com
DTSTAMP:20260425T204443Z
DTSTART:20260506T140000Z
DTEND:20260506T160000Z
SUMMARY:Sunrisers Hyderabad vs Punjab Kings — IPL 2026 (Watch Free with VPN)
DESCRIPTION:A battle of the power hitters. SRH's aggressive top order faces the disciplined bowling attack of the Punjab Kings in Hyderabad.\\n\\nFree on JioCinema (India).\\n\\nFull guide: https://endorso.com/vpn/watch/ipl-2026-sunrisers-hyderabad-vs-punjab-kings-2026-05-06
URL:https://endorso.com/vpn/watch/ipl-2026-sunrisers-hyderabad-vs-punjab-kings-2026-05-06
LOCATION:https://endorso.com/vpn/watch/ipl-2026-sunrisers-hyderabad-vs-punjab-kings-2026-05-06
END:VEVENT
END:VCALENDAR