BEGIN:VCALENDAR
VERSION:2.0
PRODID:-//Endorso//Watch Free Events//EN
CALSCALE:GREGORIAN
METHOD:PUBLISH
BEGIN:VEVENT
UID:ipl-2026-sunrisers-hyderabad-vs-punjab-kings-2026-05-01@endorso.com
DTSTAMP:20260422T045812Z
DTSTART:20260501T140000Z
DTEND:20260501T160000Z
SUMMARY:Sunrisers Hyderabad vs Punjab Kings — IPL 2026 (Watch Free with VPN)
DESCRIPTION:SRH's explosive batting lineup faces the disciplined bowling attack of PBKS. A must-win game for both sides to stay in the hunt.\\n\\nFree on JioCinema (India).\\n\\nFull guide: https://endorso.com/vpn/watch/ipl-2026-sunrisers-hyderabad-vs-punjab-kings-2026-05-01
URL:https://endorso.com/vpn/watch/ipl-2026-sunrisers-hyderabad-vs-punjab-kings-2026-05-01
LOCATION:https://endorso.com/vpn/watch/ipl-2026-sunrisers-hyderabad-vs-punjab-kings-2026-05-01
END:VEVENT
END:VCALENDAR