BEGIN:VCALENDAR
VERSION:2.0
PRODID:-//Endorso//Watch Free Events//EN
CALSCALE:GREGORIAN
METHOD:PUBLISH
BEGIN:VEVENT
UID:ipl-2026-sunrisers-hyderabad-vs-mumbai-indians-2026-05-03@endorso.com
DTSTAMP:20260420T112426Z
DTSTART:20260503T180000Z
DTEND:20260503T200000Z
SUMMARY:Sunrisers Hyderabad vs Mumbai Indians — IPL 2026 (Watch Free with VPN)
DESCRIPTION:SRH and MI face off in a crucial IPL 2026 encounter. Both teams are aiming for a win to strengthen their playoff chances.\\n\\nFree on JioCinema (India).\\n\\nFull guide: https://endorso.com/vpn/watch/ipl-2026-sunrisers-hyderabad-vs-mumbai-indians-2026-05-03
URL:https://endorso.com/vpn/watch/ipl-2026-sunrisers-hyderabad-vs-mumbai-indians-2026-05-03
LOCATION:https://endorso.com/vpn/watch/ipl-2026-sunrisers-hyderabad-vs-mumbai-indians-2026-05-03
END:VEVENT
END:VCALENDAR