BEGIN:VCALENDAR
VERSION:2.0
PRODID:-//Endorso//Watch Free Events//EN
CALSCALE:GREGORIAN
METHOD:PUBLISH
BEGIN:VEVENT
UID:ipl-2026-sunrisers-hyderabad-vs-lucknow-super-giants-2026-05-04@endorso.com
DTSTAMP:20260421T193848Z
DTSTART:20260504T140000Z
DTEND:20260504T160000Z
SUMMARY:Sunrisers Hyderabad vs Lucknow Super Giants — IPL 2026 (Watch Free with VPN)
DESCRIPTION:Two tactical powerhouses meet in Hyderabad. SRH's bowling attack faces the aggressive top order of LSG.\\n\\nFree on JioCinema (India).\\n\\nFull guide: https://endorso.com/vpn/watch/ipl-2026-sunrisers-hyderabad-vs-lucknow-super-giants-2026-05-04
URL:https://endorso.com/vpn/watch/ipl-2026-sunrisers-hyderabad-vs-lucknow-super-giants-2026-05-04
LOCATION:https://endorso.com/vpn/watch/ipl-2026-sunrisers-hyderabad-vs-lucknow-super-giants-2026-05-04
END:VEVENT
END:VCALENDAR