BEGIN:VCALENDAR
VERSION:2.0
PRODID:-//Endorso//Watch Free Events//EN
CALSCALE:GREGORIAN
METHOD:PUBLISH
BEGIN:VEVENT
UID:ipl-2026-royal-challengers-bengaluru-vs-kolkata-knight-riders-2026-04-26@endorso.com
DTSTAMP:20260425T111230Z
DTSTART:20260426T140000Z
DTEND:20260426T160000Z
SUMMARY:Royal Challengers Bengaluru vs Kolkata Knight Riders — IPL 2026 (Watch Free with VPN)
DESCRIPTION:Virat Kohli leads RCB against the defending champions KKR at the M. Chinnaswamy Stadium. Expect a high-scoring encounter on this small ground.\\n\\nFree on JioCinema (India).\\n\\nFull guide: https://endorso.com/vpn/watch/ipl-2026-royal-challengers-bengaluru-vs-kolkata-knight-riders-2026-04-26
URL:https://endorso.com/vpn/watch/ipl-2026-royal-challengers-bengaluru-vs-kolkata-knight-riders-2026-04-26
LOCATION:https://endorso.com/vpn/watch/ipl-2026-royal-challengers-bengaluru-vs-kolkata-knight-riders-2026-04-26
END:VEVENT
END:VCALENDAR