BEGIN:VCALENDAR
VERSION:2.0
PRODID:-//Endorso//Watch Free Events//EN
CALSCALE:GREGORIAN
METHOD:PUBLISH
BEGIN:VEVENT
UID:ipl-2026-royal-challengers-bengaluru-vs-gujarat-titans-2026-04-22@endorso.com
DTSTAMP:20260421T193220Z
DTSTART:20260422T140000Z
DTEND:20260422T160000Z
SUMMARY:Royal Challengers Bengaluru vs Gujarat Titans — IPL 2026 (Watch Free with VPN)
DESCRIPTION:Virat Kohli leads RCB against the disciplined Gujarat Titans at the M. Chinnaswamy Stadium. Expect a high-scoring encounter on this small ground.\\n\\nFree on JioCinema (India).\\n\\nFull guide: https://endorso.com/vpn/watch/ipl-2026-royal-challengers-bengaluru-vs-gujarat-titans-2026-04-22
URL:https://endorso.com/vpn/watch/ipl-2026-royal-challengers-bengaluru-vs-gujarat-titans-2026-04-22
LOCATION:https://endorso.com/vpn/watch/ipl-2026-royal-challengers-bengaluru-vs-gujarat-titans-2026-04-22
END:VEVENT
END:VCALENDAR