BEGIN:VCALENDAR
VERSION:2.0
PRODID:-//Endorso//Watch Free Events//EN
CALSCALE:GREGORIAN
METHOD:PUBLISH
BEGIN:VEVENT
UID:ipl-2026-royal-challengers-bangalore-vs-rajasthan-royals-2026-04-29@endorso.com
DTSTAMP:20260420T112023Z
DTSTART:20260429T180000Z
DTEND:20260429T200000Z
SUMMARY:Royal Challengers Bangalore vs Rajasthan Royals — IPL 2026 (Watch Free with VPN)
DESCRIPTION:RCB and RR face off in a crucial IPL 2026 encounter. Both teams are aiming for a win to strengthen their playoff chances.\\n\\nFree on JioCinema (India).\\n\\nFull guide: https://endorso.com/vpn/watch/ipl-2026-royal-challengers-bangalore-vs-rajasthan-royals-2026-04-29
URL:https://endorso.com/vpn/watch/ipl-2026-royal-challengers-bangalore-vs-rajasthan-royals-2026-04-29
LOCATION:https://endorso.com/vpn/watch/ipl-2026-royal-challengers-bangalore-vs-rajasthan-royals-2026-04-29
END:VEVENT
END:VCALENDAR