BEGIN:VCALENDAR
VERSION:2.0
PRODID:-//Endorso//Watch Free Events//EN
CALSCALE:GREGORIAN
METHOD:PUBLISH
BEGIN:VEVENT
UID:ipl-2026-rcb-vs-kkr-2026-04-27@endorso.com
DTSTAMP:20260426T044210Z
DTSTART:20260427T140000Z
DTEND:20260427T160000Z
SUMMARY:Royal Challengers Bengaluru vs. Kolkata Knight Riders — IPL 2026 (Watch Free with VPN)
DESCRIPTION:Virat Kohli leads RCB against the defending champions KKR in a crucial mid-season clash at the Chinnaswamy Stadium.\\n\\nFree on JioCinema (India).\\n\\nFull guide: https://endorso.com/vpn/watch/ipl-2026-rcb-vs-kkr-2026-04-27
URL:https://endorso.com/vpn/watch/ipl-2026-rcb-vs-kkr-2026-04-27
LOCATION:https://endorso.com/vpn/watch/ipl-2026-rcb-vs-kkr-2026-04-27
END:VEVENT
END:VCALENDAR