BEGIN:VCALENDAR
VERSION:2.0
PRODID:-//Endorso//Watch Free Events//EN
CALSCALE:GREGORIAN
METHOD:PUBLISH
BEGIN:VEVENT
UID:ipl-2026-rajasthan-royals-vs-punjab-kings-2026-04-28@endorso.com
DTSTAMP:20260419T140755Z
DTSTART:20260428T140000Z
DTEND:20260428T160000Z
SUMMARY:Rajasthan Royals vs Punjab Kings — IPL 2026 (Watch Free with VPN)
DESCRIPTION:IPL 2026 match between Rajasthan Royals and Punjab Kings. Both teams are looking to secure a win to climb up the points table.\\n\\nFree on JioCinema (India).\\n\\nFull guide: https://endorso.com/vpn/watch/ipl-2026-rajasthan-royals-vs-punjab-kings-2026-04-28
URL:https://endorso.com/vpn/watch/ipl-2026-rajasthan-royals-vs-punjab-kings-2026-04-28
LOCATION:https://endorso.com/vpn/watch/ipl-2026-rajasthan-royals-vs-punjab-kings-2026-04-28
END:VEVENT
END:VCALENDAR