BEGIN:VCALENDAR
VERSION:2.0
PRODID:-//Endorso//Watch Free Events//EN
CALSCALE:GREGORIAN
METHOD:PUBLISH
BEGIN:VEVENT
UID:ipl-2026-punjab-kings-vs-royal-challengers-bangalore-2026-04-26@endorso.com
DTSTAMP:20260419T195812Z
DTSTART:20260426T140000Z
DTEND:20260426T160000Z
SUMMARY:Punjab Kings vs Royal Challengers Bangalore — IPL 2026 (Watch Free with VPN)
DESCRIPTION:IPL 2026 match between Punjab Kings and Royal Challengers Bangalore. A crucial match for both teams as they fight to stay in contention for a playoff spot.\\n\\nFree on JioCinema (India).\\n\\nFull guide: https://endorso.com/vpn/watch/ipl-2026-punjab-kings-vs-royal-challengers-bangalore-2026-04-26
URL:https://endorso.com/vpn/watch/ipl-2026-punjab-kings-vs-royal-challengers-bangalore-2026-04-26
LOCATION:https://endorso.com/vpn/watch/ipl-2026-punjab-kings-vs-royal-challengers-bangalore-2026-04-26
END:VEVENT
END:VCALENDAR